BEGIN:VCALENDAR
VERSION:2.0
PRODID:-//Bridge Acres Stable - ECPv6.3.7//NONSGML v1.0//EN
CALSCALE:GREGORIAN
METHOD:PUBLISH
X-WR-CALNAME:Bridge Acres Stable
X-ORIGINAL-URL:https://www.bridgeacresstable.com
X-WR-CALDESC:Events for Bridge Acres Stable
REFRESH-INTERVAL;VALUE=DURATION:PT1H
X-Robots-Tag:noindex
X-PUBLISHED-TTL:PT1H
BEGIN:VTIMEZONE
TZID:UTC
BEGIN:STANDARD
TZOFFSETFROM:+0000
TZOFFSETTO:+0000
TZNAME:UTC
DTSTART:20200101T000000
END:STANDARD
END:VTIMEZONE
BEGIN:VEVENT
DTSTART;VALUE=DATE:20200419
DTEND;VALUE=DATE:20200420
DTSTAMP:20260425T215416
CREATED:20200117T052429Z
LAST-MODIFIED:20200127T060612Z
UID:267-1587254400-1587340799@www.bridgeacresstable.com
SUMMARY:Hollyhurst Farm
DESCRIPTION:
URL:https://www.bridgeacresstable.com/event/april-19th-at-hollyhurst-farm/
LOCATION:499 Zion Road  Carlisle\, PA 17015\, 499 Zion Road\, Carlisle\, PA\, 17015\, United States
ATTACH;FMTTYPE=image/jpeg:https://www.bridgeacresstable.com/wp-content/uploads/2020/01/logo_holly.jpg
END:VEVENT
END:VCALENDAR